BEGIN:VCALENDAR
VERSION:2.0
PRODID:-//Clienteninformatiepunt - ECPv6.15.16//NONSGML v1.0//EN
CALSCALE:GREGORIAN
METHOD:PUBLISH
X-WR-CALNAME:Clienteninformatiepunt
X-ORIGINAL-URL:https://clienteninformatiepunt.nl
X-WR-CALDESC:Evenementen voor Clienteninformatiepunt
REFRESH-INTERVAL;VALUE=DURATION:PT1H
X-Robots-Tag:noindex
X-PUBLISHED-TTL:PT1H
BEGIN:VTIMEZONE
TZID:UTC
BEGIN:STANDARD
TZOFFSETFROM:+0000
TZOFFSETTO:+0000
TZNAME:UTC
DTSTART:20240101T000000
END:STANDARD
END:VTIMEZONE
BEGIN:VTIMEZONE
TZID:Europe/Amsterdam
BEGIN:DAYLIGHT
TZOFFSETFROM:+0100
TZOFFSETTO:+0200
TZNAME:CEST
DTSTART:20240331T010000
END:DAYLIGHT
BEGIN:STANDARD
TZOFFSETFROM:+0200
TZOFFSETTO:+0100
TZNAME:CET
DTSTART:20241027T010000
END:STANDARD
BEGIN:DAYLIGHT
TZOFFSETFROM:+0100
TZOFFSETTO:+0200
TZNAME:CEST
DTSTART:20250330T010000
END:DAYLIGHT
BEGIN:STANDARD
TZOFFSETFROM:+0200
TZOFFSETTO:+0100
TZNAME:CET
DTSTART:20251026T010000
END:STANDARD
BEGIN:DAYLIGHT
TZOFFSETFROM:+0100
TZOFFSETTO:+0200
TZNAME:CEST
DTSTART:20260329T010000
END:DAYLIGHT
BEGIN:STANDARD
TZOFFSETFROM:+0200
TZOFFSETTO:+0100
TZNAME:CET
DTSTART:20261025T010000
END:STANDARD
END:VTIMEZONE
BEGIN:VEVENT
DTSTART;TZID=UTC:20250606T190000
DTEND;TZID=UTC:20250606T210000
DTSTAMP:20260426T034744
CREATED:20250602T125409Z
LAST-MODIFIED:20250602T130636Z
UID:694-1749236400-1749243600@clienteninformatiepunt.nl
SUMMARY:Psychiatriecafé IJburg
DESCRIPTION:Beste\, lieve en geachte mensen\, \n\n\n\nDeze editie is het onderwerp: Economisch Dakloos \n\n\n\n\n\n\n\nWat is een economische dakloze eigenlijk. En hoe wordt je het? Wat is het verschil tussen dakloos en economisch dakloos? Hoe voorkom ik dat ik economisch dakloos wordt? Zijn een paar van de vele vragen die we gaan bespreken en beantwoorden. \n\n\n\nChanell Schenkers (contactpersoon) en Michael (zorgcoordinator) beiden werkzaam bij het Passantenhotel komen om met ons hierover over in gesprek te gaan. \n\n\n\nKun je je voorstellen dat iedereen in deze maatschappij\, dus ook jij\, risico loopt om economisch dakloos te worden? Nee? Waarom denk je van niet? Kom dan met ons hierover in gesprek. \n\n\n\nWe kijken ernaar uit jullie weer te zien! \n\n\n\nJe bent van harte welkom op vrijdag 6 juni 2025 \n\n\n\nWaar: op IJburg\, Ed Pelsterpark 8\, 1087 EJ\, te Amsterdam. \n\n\n\nJe kunt vanaf 17.30 binnenlopen en om 18.00 uur aansluiten voor de gezamenlijke maaltijd (4\,00 euro\, van tevoren graag aanmelden als je mee wilt eten).  \n\n\n\nVan 19.00 tot 21.00 uur (gratis & rolstoel vriendelijk) zullen de gastsprekers hun verhaal doen en is er voldoende ruimte voor ieders verhaal en vragen. \n\n\n\nGraag aanmelden voor het eten via ikdoemee@deregenboog.org of tussen 13.00 en 16.00 uur via telefoonnummer \n\n\n\n020-5317600 (secretariaat van de Regenboog groep). \n\n\n\nHartelijke groeten van het team Psychiatrie Cafés
URL:https://clienteninformatiepunt.nl/event/psychiatriecafe-ijburg/
END:VEVENT
BEGIN:VEVENT
DTSTART;TZID=UTC:20250530T190000
DTEND;TZID=UTC:20250530T210000
DTSTAMP:20260426T034744
CREATED:20250526T133557Z
LAST-MODIFIED:20250526T133559Z
UID:692-1748631600-1748638800@clienteninformatiepunt.nl
SUMMARY:Psychiatriecafé centrum
DESCRIPTION:Verbinding & ontworteling. \n\n\n\n\n\n\n\nDe Psychiatrie Cafés presenteren een reeks bijeenkomsten in co creatie met het Herstel-Lab.Bram Vreeswijk\, de oprichter van het Herstel-Lab\, zal iets vertellen over de co creatie met het Psychiatrie Café en het belang van co creatie in het leven van ieder mens.Vervolgens zullen een aantal ervaringsdeskundigen bijzondere presentaties geven over ervaringen met verbinding en ontworteling in hun leven. En gaan wij met z’n allen in gesprek over verbinding en ontworteling. \n\n\n\nJe bent van harte welkom!Mede namens Bram en het team van het Herstel-Lab\, we kijken ernaar uit jullie te ontmoeten! \n\n\n\nJe bent van harte welkom \n\n\n\nWANNEER: op vrijdag 30 mei 2025 \n\n\n\nWaar: Buurthuis  de Boomsspijker\, Recht Boomssloot 52 \n\n\n\nJe kunt vanaf 17.30 binnenlopen en om 18.00 uur aansluiten voor de gezamenlijke maaltijd (4\,00 euro\, van tevoren graag aanmelden als je mee wilt eten). het is niet mogelijk met een pasje te betalen dus neem contant geld mee. \n\n\n\nVan 19.00 tot 21.00 uur (gratis & rolstoel vriendelijk) is het psychiatrie café en is er voldoende ruimte voor ieders verhaal en vragen.  \n\n\n\nGraag aanmelden voor het eten kan via ikdoemee@deregenboog.org of tussen 13.00 en 16.00 uur via telefoonnummer \n\n\n\n020-5317600 (secretariaat van de Regenboog groep). \n\n\n\nHartelijke groeten van het team Psychiatrie Cafés
URL:https://clienteninformatiepunt.nl/event/psychiatriecafe-centrum/
END:VEVENT
BEGIN:VEVENT
DTSTART;TZID=UTC:20250522T190000
DTEND;TZID=UTC:20250522T210000
DTSTAMP:20260426T034744
CREATED:20250522T092530Z
LAST-MODIFIED:20250522T113616Z
UID:674-1747940400-1747947600@clienteninformatiepunt.nl
SUMMARY:Psychiatrie Café oost
DESCRIPTION:Beste\, lieve en geachte mensen\, \n\n\n\nDeze editie is het onderwerp \n\n\n\nVan uitzichtloosheid naar herstel \n\n\n\nHiervoor heb ik Mohammed uitgenodigd. Hij komt zijn inspirerende verhaal met ons delen. \n\n\n\nMohammed\, een wiskundeleraar\, kwam door een ontwrichtende gebeurtenis plotseling op straat te staan. Hierdoor kwam hij onbedoeld in een uitzichtloze mensonterende situatie terecht. Inmiddels gaat het weer heel erg goed met hem. \n\n\n\n\n\n\n\nWij hebben er enorm zin in en jij bent van harte welkom! Kom jij ook? \n\n\n\nWaar: Buurthuis de MeevaartAdres: Balistraat 48AWanneer: donderdag 22 mei 2025 van 19.00-21.00 \n\n\n\nWe sluiten voor het eten aan bij buurtrestaurant in de Meevaart van 18.00-19.00 kosten a €4.00 het is niet mogelijk met een pasje te betalen dus neem contant geld mee. \n\n\n\nWil je gezellig mee eten (altijd vegetarisch) dan kun je je aanmelden bij: ikdoemee@deregenboog.org oftussen 13.00 – 16.00 via telefoonnummer 020-5317600 (secretariaat van De Regenboog Groep). \n\n\n\nHartelijke groet Team Psychiatrie Café.
URL:https://clienteninformatiepunt.nl/event/psychiatrie-cafe-oost/
END:VEVENT
BEGIN:VEVENT
DTSTART;TZID=Europe/Amsterdam:20250502T190000
DTEND;TZID=Europe/Amsterdam:20250502T210000
DTSTAMP:20260426T034744
CREATED:20250425T065812Z
LAST-MODIFIED:20250909T100415Z
UID:643-1746212400-1746219600@clienteninformatiepunt.nl
SUMMARY:Psychiatrie Café
DESCRIPTION: \n\n \n\n \n\n \n\n \n\n \n\nIedereen is van harte welkom in één van onze Psychiatrie Cafés. Een veilige en gezellige ruimte waarbij ervaringen gedeeld kunnen worden. Elke bijeenkomst heeft een thema en mogelijk een gastspreker.\n\nHet Psychiatrie Café is gratis. Je kunt vanaf 17.30 binnenlopen en om 18.00 uur aansluiten voor de maaltijd (€ 4\,00\, van tevoren graag aanmelden als je mee wilt eten).\n\nVan 19.00 tot 21.00 uur (gratis) zal de gastspreker / spreekster zijn / haar verhaal doen en is er voldoende ruimte voor ieders verhaal en vragen.\n\nGraag aanmelden via ikdoemee@deregenboog.org of tussen 13.00 en 16.00 uur via telefoonnummer 020-5317600 (secretariaat van de Regenboog Groep).
URL:https://clienteninformatiepunt.nl/event/psychiatrie-cafe/
LOCATION:IJburg- Buurtkamer IJburg\, Ed Pelsterpark 8\, Amsterdam\, Noord-Holland\, Netherlands
CATEGORIES:Psychiatrie Café
ORGANIZER;CN="Ik Doe Mee - De Regenboog":MAILTO:ikdoemee@deregenboog.org
END:VEVENT
END:VCALENDAR