BEGIN:VCALENDAR
VERSION:2.0
PRODID:-//Clienteninformatiepunt - ECPv6.15.16//NONSGML v1.0//EN
CALSCALE:GREGORIAN
METHOD:PUBLISH
X-WR-CALNAME:Clienteninformatiepunt
X-ORIGINAL-URL:https://clienteninformatiepunt.nl
X-WR-CALDESC:Evenementen voor Clienteninformatiepunt
REFRESH-INTERVAL;VALUE=DURATION:PT1H
X-Robots-Tag:noindex
X-PUBLISHED-TTL:PT1H
BEGIN:VTIMEZONE
TZID:UTC
BEGIN:STANDARD
TZOFFSETFROM:+0000
TZOFFSETTO:+0000
TZNAME:UTC
DTSTART:20250101T000000
END:STANDARD
END:VTIMEZONE
BEGIN:VEVENT
DTSTART;TZID=UTC:20260306T190000
DTEND;TZID=UTC:20260306T210000
DTSTAMP:20260425T182058
CREATED:20260219T092428Z
LAST-MODIFIED:20260219T092500Z
UID:944-1772823600-1772830800@clienteninformatiepunt.nl
SUMMARY:Psychiatrie Café IJburg\, 6 maart
DESCRIPTION:Beste\, lieve en geachte mensen\, \n\n\n\nPsychofarmaca gebruik & afbouw \n\n\n\nWe gaan het met elkaar hebben over medicijngebruik en het afbouwen van deze psychofarmaca\, zoals ze genoemd worden. Psychiaters zijn in de afgelopen decennia veel bezig geweest met het voorschrijven van medicatie\, maar er is weinig bekend over verantwoord afbouwen. Gek eigenlijk. \n\n\n\n\n\n\n\nAntidepressiva\, antipsychotica\, slaap- en kalmeringsmiddelen\, stemmingsstabilisatoren\, ADHD-medicatie: enkele miljoenen Nederlanders gebruiken psychofarmaca. Medicatie kan zinvol zijn\, maar we slikken te veel\, te lang\, én soms in gevaarlijke combinaties. \n\n\n\nWouter Schröder is 40 jaar en slikt zelf al ruim 25 jaar medicijnen. Hij heeft onderzoek gedaan en van verschillende kanten kennis opgedaan. Hij neemt je deze avond mee in zijn resultaten en zijn eigen ervaringen. \n\n\n\nMis deze kans niet om hierover te leren en vragen te stellen. We gaan deze avond het gesprek aan over een belangrijk onderwerp. \n\n\n\nWe kijken ernaar uit jullie weer te zien. Tot dan! \n\n\n\n\n\n\n\n\n\n\n\nDatum: Vrijdag 6 maart 2026Waar: IJburg\, Buurthuis IJburgAdres: Ed Pelsterpark 8\, 1087 EJ\, te Amsterdam \n\n\n\n\n\n\n\nInloop \n\n\n\nInloop vanaf 17.30\, en om 18.00 uur aansluiten voor de gezamenlijke maaltijd (vegetarisch). Van 19.00 tot 21.00 uur (gratis & rolstoel vriendelijk) is het Psychiatrie Café. \n\n\n\nMee-eten? Graag aanmelden via 020-5317600 tussen 13.00 en 16.00u (secretariaat van de Regenboog groep) of ikdoemee@deregenboog.org. Kosten €4\,00.  \n\n\n\nGraag contant en gepast betalen\, het is niet mogelijk om met een pasje te betalen. \n\n\n\nHartelijke groeten van het team Psychiatrie Cafés
URL:https://clienteninformatiepunt.nl/event/psychiatrie-cafe-ijburg-6-maart/
ATTACH;FMTTYPE=image/png:https://clienteninformatiepunt.nl/wp-content/uploads/2026/02/6maart.png
END:VEVENT
BEGIN:VEVENT
DTSTART;TZID=UTC:20260319T190000
DTEND;TZID=UTC:20260319T210000
DTSTAMP:20260425T182058
CREATED:20260219T100242Z
LAST-MODIFIED:20260219T100244Z
UID:947-1773946800-1773954000@clienteninformatiepunt.nl
SUMMARY:Psychiatrie Café West\, 19 maart
DESCRIPTION:Beste\, lieve en geachte mensen\, \n\n\n\n\n\n\n\nHet IdeeAteljee van Ervaringswijzer \n\n\n\n \n\n\n\nHoe maak je een wijs besluit? \n\n\n\nHerman verteld over het ideeAteljee van Ervaringswijzer. En hoe je als bezoeker kunt bijdragen aan het omgaan met alledaagse uitdagingen en kwesties. \n\n\n\n \n\n\n\n\n\n\n\n \n\n\n\nBen je net als wij nieuwsgierig? Sluit dan gezellig aan! Je bent van harte welkom. Tot dan:) \n\n\n\nWij hebben er enorm zin in en jij bent van harte welkom! Kom jij ook? \n\n\n\n\n\n\n\nDatum: Donderdag 19 maart 2026Waar: West\, Buurtkamer KostelijkAdres: Tweede Kostverlorenkade 15 \n\n\n\nLet op: deze locatie is NIET rolstoel vriendelijk \n\n\n\n\n\n\n\nInloop \n\n\n\nInloop vanaf 17.30\, en om 18.00 uur aansluiten voor de gezamenlijke maaltijd. Van 19.00 tot 21.00 uur (gratis) is het Psychiatrie Café.  \n\n\n\n\n\n\n\nMee-eten?  \n\n\n\nAanmelden kan via 020-5317600 tussen 13.00 en 16.00u (secretariaat van de Regenboog groep) of ikdoemee@deregenboog.org. Kosten €4\,00. Graag contant en gepast betalen. \n\n\n\nHartelijke groeten van het team Psychiatrie Cafés
URL:https://clienteninformatiepunt.nl/event/psychiatrie-cafe-west-19-maart/
ATTACH;FMTTYPE=image/jpeg:https://clienteninformatiepunt.nl/wp-content/uploads/2026/02/idee-ateljee-edited.jpg
END:VEVENT
BEGIN:VEVENT
DTSTART;TZID=UTC:20260320T190000
DTEND;TZID=UTC:20260320T210000
DTSTAMP:20260425T182058
CREATED:20260219T105042Z
LAST-MODIFIED:20260219T105044Z
UID:951-1774033200-1774040400@clienteninformatiepunt.nl
SUMMARY:Psychiatrie Café Zuidoost\, 20 maart
DESCRIPTION:Beste\, lieve en geachte mensen\, \n\n\n\nDeze editie duiken we in de fascinerende wereld van…Bram Oomen. \n\n\n\n\n\n\n\nTijdens de bijeenkomst presenteer ik (Bram Oomen) met poëtische video’s en (Speelse)filosofie mijn verhaal over psychiatrie\, familie en herstel. \n\n\n\n\n\n\n\nIk ga ook iets vertellen over het oprichten van de Herstelacademie met het Herstellab en het ecosysteem mentale gezondheid. Jullie zijn van harte uitgenodigd! \n\n\n\nWe kijken er naar uit jullie weer te zien. Tot dan! \n\n\n\n\n\n\n\nDatum: Vrijdag 20 maart 2026Waar: Zuidoost\, Buurthuis De Bonte KraaiAdres: Kraaiennest 68 \n\n\n\n\n\n\n\nInloop \n\n\n\nInloop vanaf 17.30\, en om 18.00 uur aansluiten voor de gezamenlijke maaltijd. Van 19.00 tot 21.00 uur (gratis & rolstoel vriendelijk) is het Psychiatrie Café.  \n\n\n\nMee-eten?  \n\n\n\nVoor vega liefhebbers graag even doorgeven. Aanmelden kan via 020-5317600 tussen 13.00 en 16.00u (secretariaat van de Regenboog groep) of ikdoemee@deregenboog.org. Kosten €5\,00. Graag contant en gepast betalen. \n\n\n\n \n\n\n\nHartelijke groeten van het team Psychiatrie Cafés
URL:https://clienteninformatiepunt.nl/event/psychiatrie-cafe-zuidoost-20-maart/
ATTACH;FMTTYPE=image/jpeg:https://clienteninformatiepunt.nl/wp-content/uploads/2026/02/pexels-evie-shaffer-1259279-2512388-edited.jpg
END:VEVENT
BEGIN:VEVENT
DTSTART;TZID=UTC:20260326T190000
DTEND;TZID=UTC:20260326T210000
DTSTAMP:20260425T182058
CREATED:20260219T105410Z
LAST-MODIFIED:20260219T105413Z
UID:956-1774551600-1774558800@clienteninformatiepunt.nl
SUMMARY:Psychiatrie Café Oost\, 26 maart
DESCRIPTION:Beste lieve en geachte mensen\,Deze editie gaan we helemaal los met.. \n\n\n\nVerhalen & Muziek over zoeken naar een thuis \n\n\n\n\n\n\n\n \n\n\n\nWat betekent het om je thuis te voelen? \n\n\n\nPLEK VOOR MIJ brengt persoonlijke verhalen van mensen met internationale roots tot leven in liedjes. Maarten van Veen (de Reisgenoot) zingt over thema’s zoals erbij willen horen\, het aanpassen aan een nieuwe cultuur en de dingen waar je moeilijk over kunt praten. Tussen de liedjes door gaan we in gesprek over wat ons raakt\, verbaast of verrast. \n\n\n\nWij willen hier alles over weten! Kom jij ook? Je bent van harte welkom. Tot dan:) \n\n\n\n\n\n\n\nDatum: Donderdag 26 maart 2026Waar: Oost\, Buurthuis de MeevaartAdres: Balistraat 48A \n\n\n\n\n\n\n\nInloop \n\n\n\nInloop vanaf 17.30\, en om 18.00 uur aansluiten voor de gezamenlijke maaltijd (vegetarisch). Van 19.00 tot 21.00 uur (gratis & rolstoel vriendelijk) is het Psychiatrie Café. \n\n\n\nMee-eten? Graag aanmelden via 020-5317600 tussen 13.00 en 16.00u (secretariaat van de Regenboog groep) of ikdoemee@deregenboog.org. Kosten €4\,00.  Graag contant en gepast betalen\, het is niet mogelijk om met een pasje te betalen. \n\n\n\nHartelijke groeten van het team Psychiatrie Cafés
URL:https://clienteninformatiepunt.nl/event/psychiatrie-cafe-oost-26-maart/
ATTACH;FMTTYPE=image/jpeg:https://clienteninformatiepunt.nl/wp-content/uploads/2026/02/maart_meevaart-edited.jpg
END:VEVENT
BEGIN:VEVENT
DTSTART;TZID=UTC:20260327T190000
DTEND;TZID=UTC:20260327T210000
DTSTAMP:20260425T182058
CREATED:20260219T110346Z
LAST-MODIFIED:20260226T184646Z
UID:960-1774638000-1774645200@clienteninformatiepunt.nl
SUMMARY:Psychiatrie Café Centrum\, 27 maart
DESCRIPTION:Beste\, lieve en geachte mensen\, \n\n\n\n \n\n\n\n\n\n\n\nKomt allen gezellig naar de \n\n\n\nAmsterdam Buurt Film Festival Editie \n\n\n\nWij geven aandacht aan een aantal korte documentaires waaronder: \n\n\n\n*Het Koffiehuis van filmmaker Martin Sturkop \n\n\n\n*Een mooi stel van filmmaker Hille Hoogland \n\n\n\n\n\n\n\nEn als er nog ruimte is dan nog een korte verassing van maker Hille Hoogland \n\n\n\nKoffiehuis Koffiehuis gaat over enkele ploegjes daklozen die vanuit Het Koffiehuisvertrekken om zwerfafval op ruimen of groen en monumenten verzorgen. In Het Koffiehuis hebben ze hun eigen plek met aanspraak en steun. Vrijwilligers koken voor hen een maaltijd. \n\n\n\nEen mooi stelEen mooi stel gaat over een echtpaar waar de echtgenoot overlijd en de zoektocht van de echtgenote van rouw overleven naar leven. \n\n\n\nDe makers Hille Hoogland en Martin Sturkop zijn op deze mooie avond ook aanwezig om over hun projecten te komen vertellen. \n\n\n\nWij hebben er weer zin in! Jij ook? Iedereen van harte welkom! \n\n\n\n\n\n\n\nDatum: Vrijdag 27 maart 2026Waar: Centrum\, Huis van de wijk de BoomsspijkerAdres: Recht Boomssloot 52\, 1011 EC\, Amsterdam \n\n\n\n\n\n\n\nInloop \n\n\n\nInloop vanaf 17.30\, en om 18.00 uur aansluiten voor de gezamenlijke maaltijd (vegetarisch). Van 19.00 tot 21.00 uur (gratis & rolstoel vriendelijk) is het Psychiatrie Café. \n\n\n\n\n\n\n\nMee-eten? \n\n\n\nGraag aanmelden via 020-5317600 tussen 13.00 en 16.00u (secretariaat van de Regenboog groep) of ikdoemee@deregenboog.org. Kosten €4\,00. Graag contant en gepast betalen\, het is niet mogelijk om met een pasje te betalen. \n\n\n\nHartelijke groeten van het team Psychiatrie Cafés
URL:https://clienteninformatiepunt.nl/event/psychiatrie-cafe-centrum-27-maart/
ATTACH;FMTTYPE=image/jpeg:https://clienteninformatiepunt.nl/wp-content/uploads/2026/02/pexels-tima-miroshnichenko-7991375-edited-scaled.jpg
END:VEVENT
BEGIN:VEVENT
DTSTART;TZID=UTC:20260403T190000
DTEND;TZID=UTC:20260403T210000
DTSTAMP:20260425T182058
CREATED:20260316T100612Z
LAST-MODIFIED:20260316T100615Z
UID:977-1775242800-1775250000@clienteninformatiepunt.nl
SUMMARY:Psychiatrie Café IJburg\, 3 april
DESCRIPTION:Beste\, lieve en geachte mensen\, \n\n\n\nDeze editie duiken we in de fascinerende wereld van \n\n\n\nBram Oomen \n\n\n\nTijdens de bijeenkomst presenteert Bram Oomen met poëtische video’s en (Speelse)filosofie zijn verhaal over psychiatrie\, familie en herstel. \n\n\n\n\n\n\n\nOok gaat hij iets vertellen over het oprichten van de Herstelacademie met het Herstellab en het ecosysteem mentale gezondheid. \n\n\n\nWe kijken ernaar uit jullie weer te zien! Kom jij ook? \n\n\n\n\n\n\n\n\n\n\n\nDatum: Vrijdag 3 april 2026Waar: IJburg\, Buurthuis IJburgAdres: Ed Pelsterpark 8\, 1087 EJ\, te Amsterdam \n\n\n\n\n\n\n\nInloop \n\n\n\nInloop vanaf 17.30\, en om 18.00 uur aansluiten voor de gezamenlijke maaltijd (vegetarisch). Van 19.00 tot 21.00 uur (gratis & rolstoel vriendelijk) is het Psychiatrie Café. \n\n\n\nMee-eten? Graag aanmelden via 020-5317600 tussen 13.00 en 16.00u (secretariaat van de Regenboog groep) of ikdoemee@deregenboog.org. Kosten €4\,00.  \n\n\n\nGraag contant en gepast betalen\, het is niet mogelijk om met een pasje te betalen. \n\n\n\nHartelijke groeten van het team Psychiatrie Cafés
URL:https://clienteninformatiepunt.nl/event/psychiatrie-cafe-ijburg-3-april/
ATTACH;FMTTYPE=image/jpeg:https://clienteninformatiepunt.nl/wp-content/uploads/2026/02/pexels-evie-shaffer-1259279-2512388-edited.jpg
END:VEVENT
BEGIN:VEVENT
DTSTART;TZID=UTC:20260416T190000
DTEND;TZID=UTC:20260416T210000
DTSTAMP:20260425T182058
CREATED:20260316T102359Z
LAST-MODIFIED:20260316T102503Z
UID:979-1776366000-1776373200@clienteninformatiepunt.nl
SUMMARY:Psychiatrie Café West\, 16 april
DESCRIPTION:Beste\, lieve en geachte mensen\, \n\n\n\nDeze editie duiken we in de fascinerende wereld van \n\n\n\n\n\n\n\nAA\, Anonieme Alcoholisten \n\n\n\n \n\n\n\nIemand uit dit programma komt hier alles over vertellen en zijn eigen ervaring met deze stichting delen. \n\n\n\nWe kijken ernaar uit jullie weer te zien! Kom jij ook? \n\n\n\n \n\n\n\n\n\n\n\n\n\n\n\nDatum: Donderdag 16 april 2026Waar: West\, Buurtkamer KostelijkAdres: Tweede Kostverlorenkade 15 \n\n\n\nLet op: deze locatie is NIET rolstoel vriendelijk \n\n\n\n\n\n\n\nInloop \n\n\n\nInloop vanaf 17.30\, en om 18.00 uur aansluiten voor de gezamenlijke maaltijd. Van 19.00 tot 21.00 uur (gratis) is het Psychiatrie Café.  \n\n\n\n\n\n\n\nMee-eten?  \n\n\n\nAanmelden kan via 020-5317600 tussen 13.00 en 16.00u (secretariaat van de Regenboog groep) of ikdoemee@deregenboog.org. Kosten €4\,00. Graag contant en gepast betalen. \n\n\n\nHartelijke groeten van het team Psychiatrie Cafés
URL:https://clienteninformatiepunt.nl/event/psychiatrie-cafe-west-16-april/
ATTACH;FMTTYPE=image/jpeg:https://clienteninformatiepunt.nl/wp-content/uploads/2026/03/hannah-busing-Zyx1bK9mqmA-unsplash-1-scaled.jpg
END:VEVENT
BEGIN:VEVENT
DTSTART;TZID=UTC:20260417T190000
DTEND;TZID=UTC:20260417T210000
DTSTAMP:20260425T182058
CREATED:20260323T153059Z
LAST-MODIFIED:20260323T153103Z
UID:983-1776452400-1776459600@clienteninformatiepunt.nl
SUMMARY:Psychiatrie Café Zuidoost\, 17 april
DESCRIPTION:Beste\, lieve en geachte mensen\, \n\n\n\nDeze editie duiken we in de fascinerende wereld van…Herstellab. \n\n\n\n\n\n\n\nErnst Jan van Grootel is ervaringsdeskundige en heeft een achtergrond in ontwrichting van verslaving. Hij is nu bijna 2 jaar in herstel en hier gekomen door groepswerk en herstelgericht werken veelal samen met lotgenoten. \n\n\n\n\n\n\n\nOp het moment is hij betrokken bij het Herstel-Lab. Wij organiseren onder andere bijeenkomsten bij de Buurtteams op de Karspeldreef in Zuidoost. \n\n\n\nTijdens dit psychiatrisch café wil hij jullie een inkijkje geven in co-creatief werken. Hierbij gaan we samen verkennen wat er nodig is deze avond en waar we ons senang bij voelen om mee aan de slag te gaan. Hij gelooft namelijk dat herstel komt door het samen te gaan onderzoeken. En we hierbij creatieve processen in gang zetten. \n\n\n\nIk kijk uit naar een mooie avond! Kom jij ook? Tot dan! \n\n\n\n\n\n\n\nDatum: Vrijdag 17 april 2026Waar: Zuidoost\, Buurthuis De Bonte KraaiAdres: Kraaiennest 68 \n\n\n\n\n\n\n\nInloop \n\n\n\nInloop vanaf 17.30\, en om 18.00 uur aansluiten voor de gezamenlijke maaltijd. Van 19.00 tot 21.00 uur (gratis & rolstoel vriendelijk) is het Psychiatrie Café.  \n\n\n\nMee-eten?  \n\n\n\nVoor vega liefhebbers graag even doorgeven. Aanmelden kan via 020-5317600 tussen 13.00 en 16.00u (secretariaat van de Regenboog groep) of ikdoemee@deregenboog.org. Kosten €5\,00. Graag contant en gepast betalen. \n\n\n\n \n\n\n\nHartelijke groeten van het team Psychiatrie Cafés
URL:https://clienteninformatiepunt.nl/event/psychiatrie-cafe-zuidoost-17-april/
ATTACH;FMTTYPE=image/png:https://clienteninformatiepunt.nl/wp-content/uploads/2025/09/Herstellab.png
END:VEVENT
BEGIN:VEVENT
DTSTART;TZID=UTC:20260424T190000
DTEND;TZID=UTC:20260424T210000
DTSTAMP:20260425T182058
CREATED:20260323T154433Z
LAST-MODIFIED:20260323T154437Z
UID:989-1777057200-1777064400@clienteninformatiepunt.nl
SUMMARY:Psychiatrie Café Centrum\, 24 april
DESCRIPTION:Beste\, lieve en geachte mensen\, \n\n\n\n \n\n\n\n\n\n\n\nWil je deze lente beginnen met een ontspannende sessie om op te laden?En wil je een bijzondere reis ervaren met klank?Kom dan naar de klankbeleving \n\n\n\n\n\n\n\nWat gaan we doen?Na een korte deelronde met de talking stick en korte bodyscan meditatie mag je volledig ontspannen in een bad van geluiden. Hille speelt als soundtherapist op haar klankschalen\, drums\, ratels\, gong en andere mooie instrumenten. \n\n\n\nEr zijn voldoende matten\, oogmaskers. Maar neem graag voor jezelf een lekker dekentje en/of kussentje mee\, warme sokken en kleed je warm aan.Indien je niet kunt liggen is zitten op een stoel ook mogelijk. \n\n\n\nWat kan het je brengen?– meer rust in je systeem– meer energie– balans– ontspanning– ruimte in het lijf– aankomen in het Nu \n\n\n\nWij hebben er weer zin in! Jij ook? Iedereen van harte welkom! \n\n\n\n\n\n\n\nDatum: Vrijdag 24 april 2026Waar: Centrum\, Huis van de wijk de BoomsspijkerAdres: Recht Boomssloot 52\, 1011 EC\, Amsterdam \n\n\n\n\n\n\n\nInloop \n\n\n\nInloop vanaf 17.30\, en om 18.00 uur aansluiten voor de gezamenlijke maaltijd (vegetarisch). Van 19.00 tot 21.00 uur (gratis & rolstoel vriendelijk) is het Psychiatrie Café. \n\n\n\n\n\n\n\nMee-eten? \n\n\n\nGraag aanmelden via 020-5317600 tussen 13.00 en 16.00u (secretariaat van de Regenboog groep) of ikdoemee@deregenboog.org. Kosten €4\,00. Graag contant en gepast betalen\, het is niet mogelijk om met een pasje te betalen. \n\n\n\nHartelijke groeten van het team Psychiatrie Cafés
URL:https://clienteninformatiepunt.nl/event/psychiatrie-cafe-centrum-24-april/
ATTACH;FMTTYPE=image/jpeg:https://clienteninformatiepunt.nl/wp-content/uploads/2026/03/pexels-magicbowls-1830208-3543912-edited-1-scaled.jpg
END:VEVENT
BEGIN:VEVENT
DTSTART;TZID=UTC:20260430T190000
DTEND;TZID=UTC:20260430T210000
DTSTAMP:20260425T182058
CREATED:20260323T153535Z
LAST-MODIFIED:20260323T153537Z
UID:985-1777575600-1777582800@clienteninformatiepunt.nl
SUMMARY:Psychiatrie Café Oost\, 30 april
DESCRIPTION:Beste lieve en geachte mensen\,Deze editie gaat het over het \n\n\n\nUitgebreide Aanbod in Oost. \n\n\n\n\n\n\n\n \n\n\n\nEr is echt van alles te doen aan activiteiten in Oost voor jong en oud maar kunnen soms door het grote aanbod “door de bomen het bos niet meer zien”. Vandaar dat we Buurtproducent Eefje de Neeling gezellig hebben uitgenodigd om ons met een hapje en een drankje wegwijs te maken in het uitgebreide aanbod in zowel het Buurthuis de Meevaart en verder in Oost. \n\n\n\nWij willen hier alles over weten! Kom jij ook? Je bent van harte welkom. Tot dan:) \n\n\n\n\n\n\n\nDatum: Donderdag 30 april 2026Waar: Oost\, Buurthuis de MeevaartAdres: Balistraat 48A \n\n\n\n\n\n\n\nInloop \n\n\n\nInloop vanaf 17.30\, en om 18.00 uur aansluiten voor de gezamenlijke maaltijd (vegetarisch). Van 19.00 tot 21.00 uur (gratis & rolstoel vriendelijk) is het Psychiatrie Café. \n\n\n\nMee-eten? Graag aanmelden via 020-5317600 tussen 13.00 en 16.00u (secretariaat van de Regenboog groep) of ikdoemee@deregenboog.org. Kosten €4\,00.  Graag contant en gepast betalen\, het is niet mogelijk om met een pasje te betalen. \n\n\n\nHartelijke groeten van het team Psychiatrie Cafés
URL:https://clienteninformatiepunt.nl/event/psychiatrie-cafe-oost-30-april/
ATTACH;FMTTYPE=image/jpeg:https://clienteninformatiepunt.nl/wp-content/uploads/2026/03/pexels-dylangkz-32762725-edited-scaled.jpg
END:VEVENT
END:VCALENDAR