BEGIN:VCALENDAR
VERSION:2.0
PRODID:-//Clienteninformatiepunt - ECPv6.15.16//NONSGML v1.0//EN
CALSCALE:GREGORIAN
METHOD:PUBLISH
X-ORIGINAL-URL:https://clienteninformatiepunt.nl
X-WR-CALDESC:Evenementen voor Clienteninformatiepunt
REFRESH-INTERVAL;VALUE=DURATION:PT1H
X-Robots-Tag:noindex
X-PUBLISHED-TTL:PT1H
BEGIN:VTIMEZONE
TZID:UTC
BEGIN:STANDARD
TZOFFSETFROM:+0000
TZOFFSETTO:+0000
TZNAME:UTC
DTSTART:20250101T000000
END:STANDARD
END:VTIMEZONE
BEGIN:VEVENT
DTSTART;TZID=UTC:20260227T190000
DTEND;TZID=UTC:20260227T210000
DTSTAMP:20260425T181654
CREATED:20251220T181847Z
LAST-MODIFIED:20260226T184521Z
UID:929-1772218800-1772226000@clienteninformatiepunt.nl
SUMMARY:Psychiatrie Café Centrum\, 27 februari
DESCRIPTION:Beste lieve en geachte mensen\, \n\n\n\n \n\n\n\nIn verband met de vakantie is de Boomspijker gesloten. Waardoor wij eenmalig – morgen – vrijdag 27 februari uitwijken naar vervangende locatie SCIP op de Keizersgracht 252.  \n\n\n\nZoals altijd eten we van 18:00 uur tot 19:00 uur en vanaf 19:00 uur begint de avond. Wil je mee-eten\, bevestig dan of je komt.  \n\n\n\nAls je niet wilt mee-eten\, dan zie ik je graag om 19:00 uur. \n\n\n\n\n\n\n\n\n\n\n\nComplexe PTSS met Bart.  \n\n\n\nC.P.T.S.S\, Complexe posttraumatische stressstoornis is een naam voor een aanhoudende psychische ontregeling als gevolg van langdurige traumatische ervaringen. \n\n\n\n\n\n\n\nGastspreker Bart heeft zelf CPTSS. Hij wil hier graag over vertellen en wat het met hem doet. Mis deze kans niet om hierover te leren en vragen te stellen. We kijken ernaar uit jullie weer te zien! \n\n\n\nWij hebben er weer zin in! Jij ook? Iedereen van harte welkom! \n\n\n\n\n\n\n\nDatum: Vrijdag 27 februari 2026Waar: ScipAdres: Keizersgracht 252\, 1016 EV\, Amsterdam \n\n\n\n \n\n\n\n\n\n\n\nInloop \n\n\n\nInloop vanaf 17.30\, en om 18.00 uur aansluiten voor de gezamenlijke maaltijd (vegetarisch). Van 19.00 tot 21.00 uur (gratis & rolstoel vriendelijk) is het Psychiatrie Café. \n\n\n\n\n\n\n\nMee-eten? \n\n\n\nGraag aanmelden via 020-5317600 tussen 13.00 en 16.00u (secretariaat van de Regenboog groep) of ikdoemee@deregenboog.org. Kosten €4\,00. Graag contant en gepast betalen\, het is niet mogelijk om met een pasje te betalen. \n\n\n\nHartelijke groeten van het team Psychiatrie Cafés
URL:https://clienteninformatiepunt.nl/event/psychiatrie-cafe-centrum-27-februari/
ATTACH;FMTTYPE=image/jpeg:https://clienteninformatiepunt.nl/wp-content/uploads/2025/12/cptss-1.jpg
END:VEVENT
END:VCALENDAR