BEGIN:VCALENDAR
VERSION:2.0
PRODID:-//Clienteninformatiepunt - ECPv6.15.16//NONSGML v1.0//EN
CALSCALE:GREGORIAN
METHOD:PUBLISH
X-ORIGINAL-URL:https://clienteninformatiepunt.nl
X-WR-CALDESC:Evenementen voor Clienteninformatiepunt
REFRESH-INTERVAL;VALUE=DURATION:PT1H
X-Robots-Tag:noindex
X-PUBLISHED-TTL:PT1H
BEGIN:VTIMEZONE
TZID:UTC
BEGIN:STANDARD
TZOFFSETFROM:+0000
TZOFFSETTO:+0000
TZNAME:UTC
DTSTART:20250101T000000
END:STANDARD
END:VTIMEZONE
BEGIN:VEVENT
DTSTART;TZID=UTC:20260220T190000
DTEND;TZID=UTC:20260220T210000
DTSTAMP:20260426T032540
CREATED:20251220T175721Z
LAST-MODIFIED:20251220T180425Z
UID:880-1771614000-1771621200@clienteninformatiepunt.nl
SUMMARY:Psychiatrie Café Zuidoost\, 20 februari
DESCRIPTION:Beste\, lieve en geachte mensen\, \n\n\n\nDeze editie…Stichting Kraktie. \n\n\n\n\n\n\n\nKraktie betekent in het Surinaams ‘KRACHT’.Stichting Kraktie brengt kracht en daadkracht bij elkaar voor iedereen van jong tot oud. \n\n\n\n\n\n\n\nZij stimuleren ieder persoon om innerlijke kracht te ontwikkelen zodat talenten\, kwaliteiten en mogelijkheden ten volle benut worden en verbinden groepen en mensen met als uitkomst duurzame samenwerkingsvormen en activiteiten die bijdragen in de persoonlijke ontwikkeling van elk individu. \n\n\n\nBen jij net als wij nieuwsgierig naar wat deze mooie Stichting allemaal kan betekenen voor jou? \n\n\n\nKom en schuif gezellig bij ons aan en laat je met een hapje en drankje verassen. \n\n\n\nWe kijken er naar uit jullie weer te zien. Tot dan! \n\n\n\n\n\n\n\nDatum: Vrijdag 20 februari 2026Waar: Zuidoost\, Buurthuis De Bonte KraaiAdres: Kraaiennest 68 \n\n\n\n\n\n\n\nInloop \n\n\n\nInloop vanaf 17.30\, en om 18.00 uur aansluiten voor de gezamenlijke maaltijd. Van 19.00 tot 21.00 uur (gratis & rolstoel vriendelijk) is het Psychiatrie Café.  \n\n\n\nMee-eten?  \n\n\n\nVoor vega liefhebbers graag even doorgeven. Aanmelden kan via 020-5317600 tussen 13.00 en 16.00u (secretariaat van de Regenboog groep) of ikdoemee@deregenboog.org. Kosten €5\,00. Graag contant en gepast betalen. \n\n\n\n \n\n\n\nHartelijke groeten van het team Psychiatrie Cafés
URL:https://clienteninformatiepunt.nl/event/psychiatrie-cafe-zuidoost-13-februari/
ATTACH;FMTTYPE=image/jpeg:https://clienteninformatiepunt.nl/wp-content/uploads/2025/12/pexels-thirdman-5684382-1-edited-scaled.jpg
END:VEVENT
END:VCALENDAR